BEGIN:VCALENDAR
VERSION:2.0
PRODID:-//Seniornett Norge - ECPv6.15.19//NONSGML v1.0//EN
CALSCALE:GREGORIAN
METHOD:PUBLISH
X-WR-CALNAME:Seniornett Norge
X-ORIGINAL-URL:https://gammel.seniornett.no
X-WR-CALDESC:Arrangement for Seniornett Norge
REFRESH-INTERVAL;VALUE=DURATION:PT1H
X-Robots-Tag:noindex
X-PUBLISHED-TTL:PT1H
BEGIN:VTIMEZONE
TZID:Europe/Oslo
BEGIN:DAYLIGHT
TZOFFSETFROM:+0100
TZOFFSETTO:+0200
TZNAME:CEST
DTSTART:20210328T010000
END:DAYLIGHT
BEGIN:STANDARD
TZOFFSETFROM:+0200
TZOFFSETTO:+0100
TZNAME:CET
DTSTART:20211031T010000
END:STANDARD
BEGIN:DAYLIGHT
TZOFFSETFROM:+0100
TZOFFSETTO:+0200
TZNAME:CEST
DTSTART:20220327T010000
END:DAYLIGHT
BEGIN:STANDARD
TZOFFSETFROM:+0200
TZOFFSETTO:+0100
TZNAME:CET
DTSTART:20221030T010000
END:STANDARD
BEGIN:DAYLIGHT
TZOFFSETFROM:+0100
TZOFFSETTO:+0200
TZNAME:CEST
DTSTART:20230326T010000
END:DAYLIGHT
BEGIN:STANDARD
TZOFFSETFROM:+0200
TZOFFSETTO:+0100
TZNAME:CET
DTSTART:20231029T010000
END:STANDARD
END:VTIMEZONE
BEGIN:VEVENT
DTSTART;TZID=Europe/Oslo:20220322T140000
DTEND;TZID=Europe/Oslo:20220630T153000
DTSTAMP:20260420T051622
CREATED:20220322T095614Z
LAST-MODIFIED:20220322T095614Z
UID:10000723-1647957600-1656603000@gammel.seniornett.no
SUMMARY:Digital Kafe
DESCRIPTION:Velkommen til digital kafe hver torsdag. Det vil bli forskjellige tema. Følg med for oppdatering.
URL:https://gammel.seniornett.no/arrangement/digital-kafe-3/
END:VEVENT
BEGIN:VEVENT
DTSTART;TZID=Europe/Oslo:20220601T110000
DTEND;TZID=Europe/Oslo:20220601T130000
DTSTAMP:20260420T051622
CREATED:20220309T093007Z
LAST-MODIFIED:20220406T082654Z
UID:10000530-1654081200-1654088400@gammel.seniornett.no
SUMMARY:Datakafe hver 14 dag på Bølgen i Sørreisa sentrum!
DESCRIPTION:Datakafe på Bølgen ( Gamle kokkeskolen) 1100 til 1300. Alle er velkommen\, alle hjelper alle! Du skal ikke sitte alene med «uoverstigelige» problemer som andre kan løse!
URL:https://gammel.seniornett.no/arrangement/datakafe-hver-14-dag/2022-06-01/
END:VEVENT
BEGIN:VEVENT
DTSTART;TZID=Europe/Oslo:20220601T110000
DTEND;TZID=Europe/Oslo:20220601T140000
DTSTAMP:20260420T051622
CREATED:20220524T141150Z
LAST-MODIFIED:20220525T133226Z
UID:10000740-1654081200-1654092000@gammel.seniornett.no
SUMMARY:Nettspill - dataspill
DESCRIPTION:Seniornett Kragerø inviterer til informasjon/kurs i bruk av egnede nettspill for oss som har blitt «voksne». Her er det mye å lære\, både i.f.t.  fysisk fostring\, hjernetrim og ikke minst det sosiale. Man kan spille sammen digitalt\, på tvers av alder og bosted. Her får vi også en fin arena til å møte barnebarna i deres verden. Det vil bli rikelig anledning til å prøve dette ut og instruktøren som kommer vil også vise bruk av VR briller og spillkonsoller. Vi trenger ikke annet enn et nettbrett/mobil for å drive med nettspill\, men vår instruktør vil vise det som fins av muligheter. Dette blir kjempegøy !!!! \nHer er det bare å melde seg på – max 20 stk. – og det blir servert rundstykker og vafler til lunsj. \nMeld dere på hos Stine eller Dag Westhrin (dag@westhrin.no eller 99407661)  – og betal kr. 50 inn til kontonr. 2801 46 00541
URL:https://gammel.seniornett.no/arrangement/nettspill-dataspill/
CATEGORIES:Kurs
END:VEVENT
END:VCALENDAR