BEGIN:VCALENDAR
VERSION:2.0
PRODID:-//Seniornett Norge - ECPv6.15.19//NONSGML v1.0//EN
CALSCALE:GREGORIAN
METHOD:PUBLISH
X-ORIGINAL-URL:https://gammel.seniornett.no
X-WR-CALDESC:Arrangement for Seniornett Norge
REFRESH-INTERVAL;VALUE=DURATION:PT1H
X-Robots-Tag:noindex
X-PUBLISHED-TTL:PT1H
BEGIN:VTIMEZONE
TZID:Europe/Oslo
BEGIN:DAYLIGHT
TZOFFSETFROM:+0100
TZOFFSETTO:+0200
TZNAME:CEST
DTSTART:20210328T010000
END:DAYLIGHT
BEGIN:STANDARD
TZOFFSETFROM:+0200
TZOFFSETTO:+0100
TZNAME:CET
DTSTART:20211031T010000
END:STANDARD
BEGIN:DAYLIGHT
TZOFFSETFROM:+0100
TZOFFSETTO:+0200
TZNAME:CEST
DTSTART:20220327T010000
END:DAYLIGHT
BEGIN:STANDARD
TZOFFSETFROM:+0200
TZOFFSETTO:+0100
TZNAME:CET
DTSTART:20221030T010000
END:STANDARD
BEGIN:DAYLIGHT
TZOFFSETFROM:+0100
TZOFFSETTO:+0200
TZNAME:CEST
DTSTART:20230326T010000
END:DAYLIGHT
BEGIN:STANDARD
TZOFFSETFROM:+0200
TZOFFSETTO:+0100
TZNAME:CET
DTSTART:20231029T010000
END:STANDARD
END:VTIMEZONE
BEGIN:VEVENT
DTSTART;TZID=Europe/Oslo:20220825T100000
DTEND;TZID=Europe/Oslo:20220825T140000
DTSTAMP:20260420T015235
CREATED:20220704T091536Z
LAST-MODIFIED:20220705T070340Z
UID:10000747-1661421600-1661436000@gammel.seniornett.no
SUMMARY:Grunnkurs PC Windows 10
DESCRIPTION:En grunnleggende innføring for deg som er helt nybegynner.\n\nGrunnkurset for PC er for nybegynnere hvor vi går igjennom det du trenger å vite for å komme i gang med din datamaskin (PC)\, dette kurset passer også for dem som ønsker å friske opp sine gamle datakunnskaper. \nPunktene vi går igjennom er \n\nStarte og slå av en PC\nBegreper\nForklare førstesiden (skrivebordet)\nBruk av mus og berøringsplate (hvordan du navigerer)\nBruk av programvinduer\nBruk av tastaturet\nBruk av Internett\nTips kjøp av PC\nSikkerhet\n\nVi setter av en til to timer på slutten av hvert kurs hvor vi går igjennom dine ønsker og repetisjoner fra kurset\, vi repeterer også i første time på dag to. Det blir tre kvarter undervisning og ett kvarters pause hver time\, vi kan også avtale en lunsj pause pluss to små pauser. \nMør forberedt til kurset. Det kan være lurt å allerede nå notere ned ting du lurer på og gjerne også noe du ønsker å lære om på kurset\, vi spør dere på første dagen og setter av tid mot slutten av dag to til å gå igjennom ditt ønske. \nPlass er ikke bekreftet før du har fått beskjed om dette. \n\nKursdetaljer\nDato: 25/08 og 26/08\, 13/10 og 14/10\nKursholder: Roar Kristiansen\nKontaktinfo til kursholder: 22 42 96 26\, kurs@seniornett.no\nPris: kr. 530\,- for medlemmer og kr. 900\,- for ikke medlemmer
URL:https://gammel.seniornett.no/arrangement/grunnkurs-pc-windows-10/2022-08-25/
LOCATION:Seniornett Dronningensgate 6\, Dronningensgate 6\, Oslo\, Oslo\, 1052
CATEGORIES:Seniornett
END:VEVENT
BEGIN:VEVENT
DTSTART;TZID=Europe/Oslo:20220825T110000
DTEND;TZID=Europe/Oslo:20220825T130000
DTSTAMP:20260420T015235
CREATED:20220309T093007Z
LAST-MODIFIED:20220406T082654Z
UID:10000615-1661425200-1661432400@gammel.seniornett.no
SUMMARY:Datakafe hver 14 dag på Bølgen i Sørreisa sentrum!
DESCRIPTION:Datakafe på Bølgen ( Gamle kokkeskolen) 1100 til 1300. Alle er velkommen\, alle hjelper alle! Du skal ikke sitte alene med «uoverstigelige» problemer som andre kan løse!
URL:https://gammel.seniornett.no/arrangement/datakafe-hver-14-dag/2022-08-25/
END:VEVENT
END:VCALENDAR