BEGIN:VCALENDAR
VERSION:2.0
PRODID:-//Seniornett Norge - ECPv6.15.19//NONSGML v1.0//EN
CALSCALE:GREGORIAN
METHOD:PUBLISH
X-ORIGINAL-URL:https://gammel.seniornett.no
X-WR-CALDESC:Arrangement for Seniornett Norge
REFRESH-INTERVAL;VALUE=DURATION:PT1H
X-Robots-Tag:noindex
X-PUBLISHED-TTL:PT1H
BEGIN:VTIMEZONE
TZID:Europe/Oslo
BEGIN:DAYLIGHT
TZOFFSETFROM:+0100
TZOFFSETTO:+0200
TZNAME:CEST
DTSTART:20210328T010000
END:DAYLIGHT
BEGIN:STANDARD
TZOFFSETFROM:+0200
TZOFFSETTO:+0100
TZNAME:CET
DTSTART:20211031T010000
END:STANDARD
BEGIN:DAYLIGHT
TZOFFSETFROM:+0100
TZOFFSETTO:+0200
TZNAME:CEST
DTSTART:20220327T010000
END:DAYLIGHT
BEGIN:STANDARD
TZOFFSETFROM:+0200
TZOFFSETTO:+0100
TZNAME:CET
DTSTART:20221030T010000
END:STANDARD
BEGIN:DAYLIGHT
TZOFFSETFROM:+0100
TZOFFSETTO:+0200
TZNAME:CEST
DTSTART:20230326T010000
END:DAYLIGHT
BEGIN:STANDARD
TZOFFSETFROM:+0200
TZOFFSETTO:+0100
TZNAME:CET
DTSTART:20231029T010000
END:STANDARD
END:VTIMEZONE
BEGIN:VEVENT
DTSTART;TZID=Europe/Oslo:20220929T100000
DTEND;TZID=Europe/Oslo:20220929T140000
DTSTAMP:20260419T222627
CREATED:20220705T065419Z
LAST-MODIFIED:20220705T065419Z
UID:10000782-1664445600-1664460000@gammel.seniornett.no
SUMMARY:Gmail e-post og tekstbehandling
DESCRIPTION:I kurset om e-post og tekstbehandling vil vi ta for oss Google sin e-post Gmail.\n\nOBS: kun for datamaskin. \nDette er ett 2 dagers kurs i bruk av tekstbehandling samt E-post\, vi bruker e-post via google.no. \n• Informasjon om Google-konto.\n• Hjelp med å aktivere din Google -konto\n• Tekstbehandling WordPad\, Word\, Libre også videre\n• Lagring av dokumenter\n• Sikkerhet på e-post\n• Forklaring av programvinduet og hvor du finner de forskjellige menyene\n• Sende e-post med og uten vedlegg\n• Åpne epost med og uten vedlegg\n• Slette e-poster \nVi setter av en til to timer på slutten av hvert kurs hvor vi går igjennom dine ønsker og repetisjoner fra kurset\, vi repeterer også i første time på dag to. Det blir tre kvarter undervisning og ett kvarters pause hver time\, vi kan også avtale en spisepause pluss to små pauser. \nHusk å møte forberedt til kurset\, begynn allerede nå å notere ned ting du lurer på og ting du ønsker å lære om på kurset\, vi spør dere på første dagen og setter av tid mot slutten av dag to til å gå igjennom ditt ønske. \nPlass er ikke bekreftet før du har fått beskjed om dette.
URL:https://gammel.seniornett.no/arrangement/gmail-e-post-og-tekstbehandling/2022-09-29/
LOCATION:Seniornett Dronningensgate 6\, Dronningensgate 6\, Oslo\, Oslo\, 1052
CATEGORIES:Seniornett
END:VEVENT
BEGIN:VEVENT
DTSTART;TZID=Europe/Oslo:20220929T110000
DTEND;TZID=Europe/Oslo:20220929T130000
DTSTAMP:20260419T222627
CREATED:20220309T093007Z
LAST-MODIFIED:20220406T082654Z
UID:10000650-1664449200-1664456400@gammel.seniornett.no
SUMMARY:Datakafe hver 14 dag på Bølgen i Sørreisa sentrum!
DESCRIPTION:Datakafe på Bølgen ( Gamle kokkeskolen) 1100 til 1300. Alle er velkommen\, alle hjelper alle! Du skal ikke sitte alene med «uoverstigelige» problemer som andre kan løse!
URL:https://gammel.seniornett.no/arrangement/datakafe-hver-14-dag/2022-09-29/
END:VEVENT
END:VCALENDAR