BEGIN:VCALENDAR
VERSION:2.0
PRODID:-//Seniornett Norge - ECPv6.15.19//NONSGML v1.0//EN
CALSCALE:GREGORIAN
METHOD:PUBLISH
X-ORIGINAL-URL:https://gammel.seniornett.no
X-WR-CALDESC:Arrangement for Seniornett Norge
REFRESH-INTERVAL;VALUE=DURATION:PT1H
X-Robots-Tag:noindex
X-PUBLISHED-TTL:PT1H
BEGIN:VTIMEZONE
TZID:Europe/Oslo
BEGIN:DAYLIGHT
TZOFFSETFROM:+0100
TZOFFSETTO:+0200
TZNAME:CEST
DTSTART:20210328T010000
END:DAYLIGHT
BEGIN:STANDARD
TZOFFSETFROM:+0200
TZOFFSETTO:+0100
TZNAME:CET
DTSTART:20211031T010000
END:STANDARD
BEGIN:DAYLIGHT
TZOFFSETFROM:+0100
TZOFFSETTO:+0200
TZNAME:CEST
DTSTART:20220327T010000
END:DAYLIGHT
BEGIN:STANDARD
TZOFFSETFROM:+0200
TZOFFSETTO:+0100
TZNAME:CET
DTSTART:20221030T010000
END:STANDARD
BEGIN:DAYLIGHT
TZOFFSETFROM:+0100
TZOFFSETTO:+0200
TZNAME:CEST
DTSTART:20230326T010000
END:DAYLIGHT
BEGIN:STANDARD
TZOFFSETFROM:+0200
TZOFFSETTO:+0100
TZNAME:CET
DTSTART:20231029T010000
END:STANDARD
END:VTIMEZONE
BEGIN:VEVENT
DTSTART;TZID=Europe/Oslo:20221007T100000
DTEND;TZID=Europe/Oslo:20221007T140000
DTSTAMP:20260419T221810
CREATED:20220705T065808Z
LAST-MODIFIED:20220705T065808Z
UID:10000784-1665136800-1665151200@gammel.seniornett.no
SUMMARY:Veilederseminar for etablerte klubber
DESCRIPTION:Vi har gleden av å ønske velkommen til Veilederseminar i Dronningensgate 6\,\n\nDette er ett veileder seminar (ikke kurs) for etablerte klubber\, har er det meningen at dere bidrar med synspunkter og deler erfaringer og tips om det å holde kurs for flere og en til en. \nVi tar også for oss datahjelp\, kom med ønsker om å ta opp forskjellige utfordringer dere kommer borti\, sikkerhets erklæring\, hva kan du hjelpe til med\, hva kan du ikke hjelpe til med. \nHver forberedt til Veilederseminaret\, begynn allerede nå å notere ned ting du lurer på. \n  \nPlass er ikke bekreftet før du har fått beskjed om dette.
URL:https://gammel.seniornett.no/arrangement/veilederseminar-for-etablerte-klubber/
LOCATION:Seniornett Dronningensgate 6\, Dronningensgate 6\, Oslo\, Oslo\, 1052
CATEGORIES:Seniornett
END:VEVENT
BEGIN:VEVENT
DTSTART;TZID=Europe/Oslo:20221007T110000
DTEND;TZID=Europe/Oslo:20221007T130000
DTSTAMP:20260419T221810
CREATED:20220309T093007Z
LAST-MODIFIED:20220406T082654Z
UID:10000658-1665140400-1665147600@gammel.seniornett.no
SUMMARY:Datakafe hver 14 dag på Bølgen i Sørreisa sentrum!
DESCRIPTION:Datakafe på Bølgen ( Gamle kokkeskolen) 1100 til 1300. Alle er velkommen\, alle hjelper alle! Du skal ikke sitte alene med «uoverstigelige» problemer som andre kan løse!
URL:https://gammel.seniornett.no/arrangement/datakafe-hver-14-dag/2022-10-07/
END:VEVENT
END:VCALENDAR