BEGIN:VCALENDAR
VERSION:2.0
PRODID:-//Seniornett Norge - ECPv6.15.19//NONSGML v1.0//EN
CALSCALE:GREGORIAN
METHOD:PUBLISH
X-ORIGINAL-URL:https://gammel.seniornett.no
X-WR-CALDESC:Arrangement for Seniornett Norge
REFRESH-INTERVAL;VALUE=DURATION:PT1H
X-Robots-Tag:noindex
X-PUBLISHED-TTL:PT1H
BEGIN:VTIMEZONE
TZID:Europe/Oslo
BEGIN:DAYLIGHT
TZOFFSETFROM:+0100
TZOFFSETTO:+0200
TZNAME:CEST
DTSTART:20210328T010000
END:DAYLIGHT
BEGIN:STANDARD
TZOFFSETFROM:+0200
TZOFFSETTO:+0100
TZNAME:CET
DTSTART:20211031T010000
END:STANDARD
BEGIN:DAYLIGHT
TZOFFSETFROM:+0100
TZOFFSETTO:+0200
TZNAME:CEST
DTSTART:20220327T010000
END:DAYLIGHT
BEGIN:STANDARD
TZOFFSETFROM:+0200
TZOFFSETTO:+0100
TZNAME:CET
DTSTART:20221030T010000
END:STANDARD
BEGIN:DAYLIGHT
TZOFFSETFROM:+0100
TZOFFSETTO:+0200
TZNAME:CEST
DTSTART:20230326T010000
END:DAYLIGHT
BEGIN:STANDARD
TZOFFSETFROM:+0200
TZOFFSETTO:+0100
TZNAME:CET
DTSTART:20231029T010000
END:STANDARD
END:VTIMEZONE
BEGIN:VEVENT
DTSTART;TZID=Europe/Oslo:20221028T100000
DTEND;TZID=Europe/Oslo:20221028T140000
DTSTAMP:20260419T221818
CREATED:20220705T065938Z
LAST-MODIFIED:20220705T065938Z
UID:10000781-1666951200-1666965600@gammel.seniornett.no
SUMMARY:facebook
DESCRIPTION:En grunnleggende innføring i bruk av facebook\n\nObs. Kun for Windows PC \nHer går vi igjennom grunnleggende og sikker bruk av facebook. \nPunktene vi går igjennom er \n\nVeggen\n\nPoste innlegg\nSlette innlegg\nSlutt å følg\n\n\n«Min side»\n\nHva du deler\nDine venner\nDine bilder\n\n\nSikkerhetsinnstillinger\nChat\nMessenger\n\n  \nDet blir tre kvarter undervisning og ett kvarters pause hver time\, vi kan også avtale en lunsj pause pluss to små pauser. \nMør forberedt til kurset. Det kan være lurt å allerede nå notere ned ting du lurer på og gjerne også noe du ønsker å lære om på kurset\, vi spør dere på første dagen og setter av tid mot slutten av dag to til å gå igjennom ditt ønske. \nPlass er ikke bekreftet før du har fått beskjed om dette.
URL:https://gammel.seniornett.no/arrangement/facebook/2022-10-28/
LOCATION:Seniornett Dronningensgate 6\, Dronningensgate 6\, Oslo\, Oslo\, 1052
CATEGORIES:Seniornett
END:VEVENT
BEGIN:VEVENT
DTSTART;TZID=Europe/Oslo:20221028T110000
DTEND;TZID=Europe/Oslo:20221028T130000
DTSTAMP:20260419T221818
CREATED:20220309T093007Z
LAST-MODIFIED:20220406T082654Z
UID:10000679-1666954800-1666962000@gammel.seniornett.no
SUMMARY:Datakafe hver 14 dag på Bølgen i Sørreisa sentrum!
DESCRIPTION:Datakafe på Bølgen ( Gamle kokkeskolen) 1100 til 1300. Alle er velkommen\, alle hjelper alle! Du skal ikke sitte alene med «uoverstigelige» problemer som andre kan løse!
URL:https://gammel.seniornett.no/arrangement/datakafe-hver-14-dag/2022-10-28/
END:VEVENT
END:VCALENDAR