BEGIN:VCALENDAR
VERSION:2.0
PRODID:-//Seniornett Norge - ECPv6.15.19//NONSGML v1.0//EN
CALSCALE:GREGORIAN
METHOD:PUBLISH
X-WR-CALNAME:Seniornett Norge
X-ORIGINAL-URL:https://gammel.seniornett.no
X-WR-CALDESC:Arrangement for Seniornett Norge
REFRESH-INTERVAL;VALUE=DURATION:PT1H
X-Robots-Tag:noindex
X-PUBLISHED-TTL:PT1H
BEGIN:VTIMEZONE
TZID:Europe/Oslo
BEGIN:DAYLIGHT
TZOFFSETFROM:+0100
TZOFFSETTO:+0200
TZNAME:CEST
DTSTART:20210328T010000
END:DAYLIGHT
BEGIN:STANDARD
TZOFFSETFROM:+0200
TZOFFSETTO:+0100
TZNAME:CET
DTSTART:20211031T010000
END:STANDARD
BEGIN:DAYLIGHT
TZOFFSETFROM:+0100
TZOFFSETTO:+0200
TZNAME:CEST
DTSTART:20220327T010000
END:DAYLIGHT
BEGIN:STANDARD
TZOFFSETFROM:+0200
TZOFFSETTO:+0100
TZNAME:CET
DTSTART:20221030T010000
END:STANDARD
BEGIN:DAYLIGHT
TZOFFSETFROM:+0100
TZOFFSETTO:+0200
TZNAME:CEST
DTSTART:20230326T010000
END:DAYLIGHT
BEGIN:STANDARD
TZOFFSETFROM:+0200
TZOFFSETTO:+0100
TZNAME:CET
DTSTART:20231029T010000
END:STANDARD
END:VTIMEZONE
BEGIN:VEVENT
DTSTART;TZID=Europe/Oslo:20221103T100000
DTEND;TZID=Europe/Oslo:20221103T140000
DTSTAMP:20260419T204240
CREATED:20220705T070104Z
LAST-MODIFIED:20220705T070104Z
UID:10000776-1667469600-1667484000@gammel.seniornett.no
SUMMARY:Grunnkurs Mac
DESCRIPTION:En grunnleggende innføring for deg som er helt nybegynner.\n\nGrunnkurset for Mac er for nybegynnere hvor vi går igjennom det du trenger å vite for å komme i gang med din Mac\, dette kurset passer også for di som ønsker å friske opp sine gamle datakunnskaper. \nPunktene vi går igjennom er \n\nStarte og slå av en Mac\nBegreper\nForklare førstesiden\nBruk av mus og berøringsplate (hvordan du navigerer)\nBruk av programvinduer\nBruk av tastaturet\nBruk av Internett\nTips kjøp av digitalt utstyr\nSikkerhet\n\nVi setter av en til to timer på slutten av hvert kurs hvor vi går igjennom dine ønsker og repetisjoner fra kurset\, vi repeterer også i første time på dag to. Det blir tre kvarter undervisning og ett kvarters pause hver time\, vi kan også avtale en lunsj pause pluss to små pauser. \nMør forberedt til kurset. Det kan være lurt å allerede nå notere ned ting du lurer på og gjerne også noe du ønsker å lære om på kurset\, vi spør dere på første dagen og setter av tid mot slutten av dag to til å gå igjennom ditt ønske. \nPlass er ikke bekreftet før du har fått beskjed om dette.
URL:https://gammel.seniornett.no/arrangement/grunnkurs-mac/2022-11-03/
LOCATION:Seniornett Dronningensgate 6\, Dronningensgate 6\, Oslo\, Oslo\, 1052
CATEGORIES:Seniornett
END:VEVENT
BEGIN:VEVENT
DTSTART;TZID=Europe/Oslo:20221103T110000
DTEND;TZID=Europe/Oslo:20221103T130000
DTSTAMP:20260419T204240
CREATED:20220309T093007Z
LAST-MODIFIED:20220406T082654Z
UID:10000685-1667473200-1667480400@gammel.seniornett.no
SUMMARY:Datakafe hver 14 dag på Bølgen i Sørreisa sentrum!
DESCRIPTION:Datakafe på Bølgen ( Gamle kokkeskolen) 1100 til 1300. Alle er velkommen\, alle hjelper alle! Du skal ikke sitte alene med «uoverstigelige» problemer som andre kan løse!
URL:https://gammel.seniornett.no/arrangement/datakafe-hver-14-dag/2022-11-03/
END:VEVENT
BEGIN:VEVENT
DTSTART;TZID=Europe/Oslo:20221103T150000
DTEND;TZID=Europe/Oslo:20221103T180000
DTSTAMP:20260419T204240
CREATED:20221030T094229Z
LAST-MODIFIED:20221030T094254Z
UID:10000763-1667487600-1667498400@gammel.seniornett.no
SUMMARY:Datakurs 1 til 1 opplæring
DESCRIPTION:1 til 1 opplæring. Ta med din eigen telefon\, nettbrett eller PC og få hjelp til å løysa dine utfordringar. Du teikar deg for ein time med ein Yrkesskuleelv som hjelper deg i ditt eige tempo. \nOpplæringa er gratis\, og du kan& få gratis drosje til og frå\, om du treng det. Du kan teika deg for så mange timar du vil\, framleis heilt gratis. \nKursa finn stad på Biblioteket i Eikelandsosen og på Os\, kvar tordsdag frå kl. 15.00 \nRing 907 98 332 for å bestille time
URL:https://gammel.seniornett.no/arrangement/datakurs-1-til-1-opplaering/2022-11-03/
CATEGORIES:Kurs
END:VEVENT
END:VCALENDAR