BEGIN:VCALENDAR
VERSION:2.0
PRODID:-//Seniornett Norge - ECPv6.15.19//NONSGML v1.0//EN
CALSCALE:GREGORIAN
METHOD:PUBLISH
X-WR-CALNAME:Seniornett Norge
X-ORIGINAL-URL:https://gammel.seniornett.no
X-WR-CALDESC:Arrangement for Seniornett Norge
REFRESH-INTERVAL;VALUE=DURATION:PT1H
X-Robots-Tag:noindex
X-PUBLISHED-TTL:PT1H
BEGIN:VTIMEZONE
TZID:Europe/Oslo
BEGIN:DAYLIGHT
TZOFFSETFROM:+0100
TZOFFSETTO:+0200
TZNAME:CEST
DTSTART:20210328T010000
END:DAYLIGHT
BEGIN:STANDARD
TZOFFSETFROM:+0200
TZOFFSETTO:+0100
TZNAME:CET
DTSTART:20211031T010000
END:STANDARD
BEGIN:DAYLIGHT
TZOFFSETFROM:+0100
TZOFFSETTO:+0200
TZNAME:CEST
DTSTART:20220327T010000
END:DAYLIGHT
BEGIN:STANDARD
TZOFFSETFROM:+0200
TZOFFSETTO:+0100
TZNAME:CET
DTSTART:20221030T010000
END:STANDARD
BEGIN:DAYLIGHT
TZOFFSETFROM:+0100
TZOFFSETTO:+0200
TZNAME:CEST
DTSTART:20230326T010000
END:DAYLIGHT
BEGIN:STANDARD
TZOFFSETFROM:+0200
TZOFFSETTO:+0100
TZNAME:CET
DTSTART:20231029T010000
END:STANDARD
END:VTIMEZONE
BEGIN:VEVENT
DTSTART;TZID=Europe/Oslo:20220512T080000
DTEND;TZID=Europe/Oslo:20220512T170000
DTSTAMP:20260420T064551
CREATED:20220510T091128Z
LAST-MODIFIED:20220510T091128Z
UID:10000735-1652342400-1652374800@gammel.seniornett.no
SUMMARY:Tester igjen
DESCRIPTION:
URL:https://gammel.seniornett.no/arrangement/tester-igjen/
LOCATION:Seniornett Dronningensgate 6\, Dronningensgate 6\, Oslo\, Oslo\, 1052
CATEGORIES:Dronningensgate 6
END:VEVENT
BEGIN:VEVENT
DTSTART;TZID=Europe/Oslo:20220512T100000
DTEND;TZID=Europe/Oslo:20220512T140000
DTSTAMP:20260420T064551
CREATED:20220223T101030Z
LAST-MODIFIED:20220511T082644Z
UID:10000441-1652349600-1652364000@gammel.seniornett.no
SUMMARY:Kurs
DESCRIPTION:Gmail e-post og tekstbehandling
URL:https://gammel.seniornett.no/arrangement/kurs/
LOCATION:Seniornett Dronningensgate 6\, Dronningensgate 6\, Oslo\, Oslo\, 1052
CATEGORIES:Dronningensgate 6
ORGANIZER;CN="Dronningensgate 6":MAILTO:kurs@seniornett.no
END:VEVENT
BEGIN:VEVENT
DTSTART;TZID=Europe/Oslo:20220512T100000
DTEND;TZID=Europe/Oslo:20220512T140000
DTSTAMP:20260420T064551
CREATED:20220510T083449Z
LAST-MODIFIED:20220511T082732Z
UID:10000731-1652349600-1652364000@gammel.seniornett.no
SUMMARY:Kalendertest
DESCRIPTION:tester \n 
URL:https://gammel.seniornett.no/arrangement/test/2022-05-12/
LOCATION:Seniornett Dronningensgate 6\, Dronningensgate 6\, Oslo\, Oslo\, 1052
CATEGORIES:Dronningensgate 6
ORGANIZER;CN="Dronningensgate 6":MAILTO:kurs@seniornett.no
END:VEVENT
BEGIN:VEVENT
DTSTART;TZID=Europe/Oslo:20220512T100000
DTEND;TZID=Europe/Oslo:20220512T150000
DTSTAMP:20260420T064551
CREATED:20220310T091114Z
LAST-MODIFIED:20220511T082310Z
UID:10000720-1652349600-1652367600@gammel.seniornett.no
SUMMARY:Grunnkurs Nettbrett/mobil
DESCRIPTION:Her tar vi for oss grunnleggende bruk av nettbrett/mobil.\n\nGrunnkurset for Nettbrett er for nybegynnere hvor vi går igjennom det du trenger å vite for å komme i gang med ditt nettbrett\, punktene vi går igjennom er\, \n\nStarte og slå av ditt nettbrett/mobil\nBegreper\nBruk av førstesiden (hjemskjermen)\nBruk av berøringsskjerm (hvordan du navigerer)\nBruk av apper\nBruk av tastaturet\nBruk av Internett\nSikkerhet\nDu for også vite hvordan du kobler deg opp mot Internett\nLitt inne på innstillinger\nTips kjøp av Nettbrett/mobil\n\nVi setter av en til to timer på slutten av hvert kurs hvor vi går igjennom dine ønsker og repetisjoner fra kurset\, vi repeterer også i første time på dag to. Det blir tre kvarter undervisning og ett kvarters pause hver time\, vi kan også avtale en lunsj pause pluss to små pauser.
URL:https://gammel.seniornett.no/arrangement/grunnkurs-nettbrett-mobil-2/2022-05-12/
LOCATION:Seniornett Dronningensgate 6\, Dronningensgate 6\, Oslo\, Oslo\, 1052
CATEGORIES:Dronningensgate 6
END:VEVENT
END:VCALENDAR