BEGIN:VCALENDAR
VERSION:2.0
PRODID:-//Seniornett Norge - ECPv6.15.19//NONSGML v1.0//EN
CALSCALE:GREGORIAN
METHOD:PUBLISH
X-WR-CALNAME:Seniornett Norge
X-ORIGINAL-URL:https://gammel.seniornett.no
X-WR-CALDESC:Arrangement for Seniornett Norge
REFRESH-INTERVAL;VALUE=DURATION:PT1H
X-Robots-Tag:noindex
X-PUBLISHED-TTL:PT1H
BEGIN:VTIMEZONE
TZID:Europe/Oslo
BEGIN:DAYLIGHT
TZOFFSETFROM:+0100
TZOFFSETTO:+0200
TZNAME:CEST
DTSTART:20210328T010000
END:DAYLIGHT
BEGIN:STANDARD
TZOFFSETFROM:+0200
TZOFFSETTO:+0100
TZNAME:CET
DTSTART:20211031T010000
END:STANDARD
BEGIN:DAYLIGHT
TZOFFSETFROM:+0100
TZOFFSETTO:+0200
TZNAME:CEST
DTSTART:20220327T010000
END:DAYLIGHT
BEGIN:STANDARD
TZOFFSETFROM:+0200
TZOFFSETTO:+0100
TZNAME:CET
DTSTART:20221030T010000
END:STANDARD
BEGIN:DAYLIGHT
TZOFFSETFROM:+0100
TZOFFSETTO:+0200
TZNAME:CEST
DTSTART:20230326T010000
END:DAYLIGHT
BEGIN:STANDARD
TZOFFSETFROM:+0200
TZOFFSETTO:+0100
TZNAME:CET
DTSTART:20231029T010000
END:STANDARD
END:VTIMEZONE
BEGIN:VEVENT
DTSTART;TZID=Europe/Oslo:20221103T100000
DTEND;TZID=Europe/Oslo:20221103T140000
DTSTAMP:20260419T223655
CREATED:20220705T070104Z
LAST-MODIFIED:20220705T070104Z
UID:10000776-1667469600-1667484000@gammel.seniornett.no
SUMMARY:Grunnkurs Mac
DESCRIPTION:En grunnleggende innføring for deg som er helt nybegynner.\n\nGrunnkurset for Mac er for nybegynnere hvor vi går igjennom det du trenger å vite for å komme i gang med din Mac\, dette kurset passer også for di som ønsker å friske opp sine gamle datakunnskaper. \nPunktene vi går igjennom er \n\nStarte og slå av en Mac\nBegreper\nForklare førstesiden\nBruk av mus og berøringsplate (hvordan du navigerer)\nBruk av programvinduer\nBruk av tastaturet\nBruk av Internett\nTips kjøp av digitalt utstyr\nSikkerhet\n\nVi setter av en til to timer på slutten av hvert kurs hvor vi går igjennom dine ønsker og repetisjoner fra kurset\, vi repeterer også i første time på dag to. Det blir tre kvarter undervisning og ett kvarters pause hver time\, vi kan også avtale en lunsj pause pluss to små pauser. \nMør forberedt til kurset. Det kan være lurt å allerede nå notere ned ting du lurer på og gjerne også noe du ønsker å lære om på kurset\, vi spør dere på første dagen og setter av tid mot slutten av dag to til å gå igjennom ditt ønske. \nPlass er ikke bekreftet før du har fått beskjed om dette.
URL:https://gammel.seniornett.no/arrangement/grunnkurs-mac/2022-11-03/
LOCATION:Seniornett Dronningensgate 6\, Dronningensgate 6\, Oslo\, Oslo\, 1052
CATEGORIES:Seniornett
END:VEVENT
BEGIN:VEVENT
DTSTART;TZID=Europe/Oslo:20221104T100000
DTEND;TZID=Europe/Oslo:20221104T140000
DTSTAMP:20260419T223655
CREATED:20220705T070104Z
LAST-MODIFIED:20220705T070104Z
UID:10000777-1667556000-1667570400@gammel.seniornett.no
SUMMARY:Grunnkurs Mac
DESCRIPTION:En grunnleggende innføring for deg som er helt nybegynner.\n\nGrunnkurset for Mac er for nybegynnere hvor vi går igjennom det du trenger å vite for å komme i gang med din Mac\, dette kurset passer også for di som ønsker å friske opp sine gamle datakunnskaper. \nPunktene vi går igjennom er \n\nStarte og slå av en Mac\nBegreper\nForklare førstesiden\nBruk av mus og berøringsplate (hvordan du navigerer)\nBruk av programvinduer\nBruk av tastaturet\nBruk av Internett\nTips kjøp av digitalt utstyr\nSikkerhet\n\nVi setter av en til to timer på slutten av hvert kurs hvor vi går igjennom dine ønsker og repetisjoner fra kurset\, vi repeterer også i første time på dag to. Det blir tre kvarter undervisning og ett kvarters pause hver time\, vi kan også avtale en lunsj pause pluss to små pauser. \nMør forberedt til kurset. Det kan være lurt å allerede nå notere ned ting du lurer på og gjerne også noe du ønsker å lære om på kurset\, vi spør dere på første dagen og setter av tid mot slutten av dag to til å gå igjennom ditt ønske. \nPlass er ikke bekreftet før du har fått beskjed om dette.
URL:https://gammel.seniornett.no/arrangement/grunnkurs-mac/2022-11-04/
LOCATION:Seniornett Dronningensgate 6\, Dronningensgate 6\, Oslo\, Oslo\, 1052
CATEGORIES:Seniornett
END:VEVENT
BEGIN:VEVENT
DTSTART;TZID=Europe/Oslo:20221110T100000
DTEND;TZID=Europe/Oslo:20221110T100000
DTSTAMP:20260419T223655
CREATED:20220705T064913Z
LAST-MODIFIED:20220705T065006Z
UID:10000761-1668074400-1668074400@gammel.seniornett.no
SUMMARY:Arkiv og bildebehandling
DESCRIPTION:Her tar vi for oss både filutforsker ( hvor du lagrer dine bildefiler) og bildebehandling.\n\nFiler:\nOpprette mapper\, flytte bildefiler\, overføring av bildefiler fra eksterne enheter som\, digitalt kamera\, mobiltelefon\, nettbrett\, minnepinne\, CDer og eksterne harddisker. \nBildebehandling: \nVi ser på bruk av bildebehandlingsprogrammet Windows Bilder som følger med din Windows 10 PC. Vi ser på hvordan beskjære bilder\, rette opp bilder\, fjerne røde øyne\, lys og fargesetting samt noen effekter. \n  \nPlass er ikke bekreftet før du har fått beskjed om dette.
URL:https://gammel.seniornett.no/arrangement/arkiv-og-bildebehandling/2022-11-10/
LOCATION:Seniornett Dronningensgate 6\, Dronningensgate 6\, Oslo\, Oslo\, 1052
CATEGORIES:Seniornett
END:VEVENT
BEGIN:VEVENT
DTSTART;TZID=Europe/Oslo:20221111T100000
DTEND;TZID=Europe/Oslo:20221111T100000
DTSTAMP:20260419T223655
CREATED:20220705T064913Z
LAST-MODIFIED:20220705T065006Z
UID:10000762-1668160800-1668160800@gammel.seniornett.no
SUMMARY:Arkiv og bildebehandling
DESCRIPTION:Her tar vi for oss både filutforsker ( hvor du lagrer dine bildefiler) og bildebehandling.\n\nFiler:\nOpprette mapper\, flytte bildefiler\, overføring av bildefiler fra eksterne enheter som\, digitalt kamera\, mobiltelefon\, nettbrett\, minnepinne\, CDer og eksterne harddisker. \nBildebehandling: \nVi ser på bruk av bildebehandlingsprogrammet Windows Bilder som følger med din Windows 10 PC. Vi ser på hvordan beskjære bilder\, rette opp bilder\, fjerne røde øyne\, lys og fargesetting samt noen effekter. \n  \nPlass er ikke bekreftet før du har fått beskjed om dette.
URL:https://gammel.seniornett.no/arrangement/arkiv-og-bildebehandling/2022-11-11/
LOCATION:Seniornett Dronningensgate 6\, Dronningensgate 6\, Oslo\, Oslo\, 1052
CATEGORIES:Seniornett
END:VEVENT
BEGIN:VEVENT
DTSTART;TZID=Europe/Oslo:20221117T100000
DTEND;TZID=Europe/Oslo:20221117T140000
DTSTAMP:20260419T223655
CREATED:20220705T065153Z
LAST-MODIFIED:20220705T065153Z
UID:10000778-1668679200-1668693600@gammel.seniornett.no
SUMMARY:Outlook free e-post og tekstbehandling
DESCRIPTION:I kurset om e-post og tekstbehandling vil vi ta for oss Microsoft sin e-post Outlook\, tidligere het den hotmail eller live.\n\nOBS: kun for datamaskin. \nDette er ett 2 dagers kurs i bruk av tekstbehandling samt E-post\, vi bruker e-post-programmet Outlook free som tidligere het Hotmail og Live. \nPunktene vi går igjennom er\n• Informasjon om Microsoft-konto.\n• Hjelp med å aktivere din Microsoft-konto\n• Tekstbehandling WordPad\, Word\, Libre også videre\n• Lagring av dokumenter\n• Sikkerhet på e-post \n• Forklaring av programvinduet og hvor du finner de forskjellige menyene\n• Sende e-post med og uten vedlegg\n• Åpne epost med og uten vedlegg\n• Slette e-poster \n  \nHver forberedt til kurset\, begynn allerede nå å notere ned ting du lurer på og en ting du ønsker å lære om på kurset\, vi spør dere på første dagen og setter av tid mot slutten av dag to til å gå igjennom ditt ønske. \n  \nPlass er ikke bekreftet før du har fått beskjed om dette.
URL:https://gammel.seniornett.no/arrangement/outlook-free-e-post-og-tekstbehandling/2022-11-17/
LOCATION:Seniornett Dronningensgate 6\, Dronningensgate 6\, Oslo\, Oslo\, 1052
CATEGORIES:Seniornett
END:VEVENT
BEGIN:VEVENT
DTSTART;TZID=Europe/Oslo:20221118T100000
DTEND;TZID=Europe/Oslo:20221118T140000
DTSTAMP:20260419T223655
CREATED:20220705T065153Z
LAST-MODIFIED:20220705T065153Z
UID:10000779-1668765600-1668780000@gammel.seniornett.no
SUMMARY:Outlook free e-post og tekstbehandling
DESCRIPTION:I kurset om e-post og tekstbehandling vil vi ta for oss Microsoft sin e-post Outlook\, tidligere het den hotmail eller live.\n\nOBS: kun for datamaskin. \nDette er ett 2 dagers kurs i bruk av tekstbehandling samt E-post\, vi bruker e-post-programmet Outlook free som tidligere het Hotmail og Live. \nPunktene vi går igjennom er\n• Informasjon om Microsoft-konto.\n• Hjelp med å aktivere din Microsoft-konto\n• Tekstbehandling WordPad\, Word\, Libre også videre\n• Lagring av dokumenter\n• Sikkerhet på e-post \n• Forklaring av programvinduet og hvor du finner de forskjellige menyene\n• Sende e-post med og uten vedlegg\n• Åpne epost med og uten vedlegg\n• Slette e-poster \n  \nHver forberedt til kurset\, begynn allerede nå å notere ned ting du lurer på og en ting du ønsker å lære om på kurset\, vi spør dere på første dagen og setter av tid mot slutten av dag to til å gå igjennom ditt ønske. \n  \nPlass er ikke bekreftet før du har fått beskjed om dette.
URL:https://gammel.seniornett.no/arrangement/outlook-free-e-post-og-tekstbehandling/2022-11-18/
LOCATION:Seniornett Dronningensgate 6\, Dronningensgate 6\, Oslo\, Oslo\, 1052
CATEGORIES:Seniornett
END:VEVENT
END:VCALENDAR