BEGIN:VCALENDAR
VERSION:2.0
PRODID:-//Seniornett Norge - ECPv6.15.19//NONSGML v1.0//EN
CALSCALE:GREGORIAN
METHOD:PUBLISH
X-ORIGINAL-URL:https://gammel.seniornett.no
X-WR-CALDESC:Arrangement for Seniornett Norge
REFRESH-INTERVAL;VALUE=DURATION:PT1H
X-Robots-Tag:noindex
X-PUBLISHED-TTL:PT1H
BEGIN:VTIMEZONE
TZID:Europe/Oslo
BEGIN:DAYLIGHT
TZOFFSETFROM:+0100
TZOFFSETTO:+0200
TZNAME:CEST
DTSTART:20210328T010000
END:DAYLIGHT
BEGIN:STANDARD
TZOFFSETFROM:+0200
TZOFFSETTO:+0100
TZNAME:CET
DTSTART:20211031T010000
END:STANDARD
BEGIN:DAYLIGHT
TZOFFSETFROM:+0100
TZOFFSETTO:+0200
TZNAME:CEST
DTSTART:20220327T010000
END:DAYLIGHT
BEGIN:STANDARD
TZOFFSETFROM:+0200
TZOFFSETTO:+0100
TZNAME:CET
DTSTART:20221030T010000
END:STANDARD
BEGIN:DAYLIGHT
TZOFFSETFROM:+0100
TZOFFSETTO:+0200
TZNAME:CEST
DTSTART:20230326T010000
END:DAYLIGHT
BEGIN:STANDARD
TZOFFSETFROM:+0200
TZOFFSETTO:+0100
TZNAME:CET
DTSTART:20231029T010000
END:STANDARD
END:VTIMEZONE
BEGIN:VEVENT
DTSTART;TZID=Europe/Oslo:20220322T140000
DTEND;TZID=Europe/Oslo:20220630T153000
DTSTAMP:20260420T051815
CREATED:20220322T095614Z
LAST-MODIFIED:20220322T095614Z
UID:10000723-1647957600-1656603000@gammel.seniornett.no
SUMMARY:Digital Kafe
DESCRIPTION:Velkommen til digital kafe hver torsdag. Det vil bli forskjellige tema. Følg med for oppdatering.
URL:https://gammel.seniornett.no/arrangement/digital-kafe-3/
END:VEVENT
BEGIN:VEVENT
DTSTART;TZID=Europe/Oslo:20220501T110000
DTEND;TZID=Europe/Oslo:20220501T130000
DTSTAMP:20260420T051815
CREATED:20220309T093007Z
LAST-MODIFIED:20220406T082654Z
UID:10000499-1651402800-1651410000@gammel.seniornett.no
SUMMARY:Datakafe hver 14 dag på Bølgen i Sørreisa sentrum!
DESCRIPTION:Datakafe på Bølgen ( Gamle kokkeskolen) 1100 til 1300. Alle er velkommen\, alle hjelper alle! Du skal ikke sitte alene med «uoverstigelige» problemer som andre kan løse!
URL:https://gammel.seniornett.no/arrangement/datakafe-hver-14-dag/2022-05-01/
END:VEVENT
BEGIN:VEVENT
DTSTART;TZID=Europe/Oslo:20220502T110000
DTEND;TZID=Europe/Oslo:20220502T130000
DTSTAMP:20260420T051815
CREATED:20220309T093007Z
LAST-MODIFIED:20220406T082654Z
UID:10000500-1651489200-1651496400@gammel.seniornett.no
SUMMARY:Datakafe hver 14 dag på Bølgen i Sørreisa sentrum!
DESCRIPTION:Datakafe på Bølgen ( Gamle kokkeskolen) 1100 til 1300. Alle er velkommen\, alle hjelper alle! Du skal ikke sitte alene med «uoverstigelige» problemer som andre kan løse!
URL:https://gammel.seniornett.no/arrangement/datakafe-hver-14-dag/2022-05-02/
END:VEVENT
BEGIN:VEVENT
DTSTART;TZID=Europe/Oslo:20220503T110000
DTEND;TZID=Europe/Oslo:20220503T130000
DTSTAMP:20260420T051815
CREATED:20220309T093007Z
LAST-MODIFIED:20220406T082654Z
UID:10000501-1651575600-1651582800@gammel.seniornett.no
SUMMARY:Datakafe hver 14 dag på Bølgen i Sørreisa sentrum!
DESCRIPTION:Datakafe på Bølgen ( Gamle kokkeskolen) 1100 til 1300. Alle er velkommen\, alle hjelper alle! Du skal ikke sitte alene med «uoverstigelige» problemer som andre kan løse!
URL:https://gammel.seniornett.no/arrangement/datakafe-hver-14-dag/2022-05-03/
END:VEVENT
BEGIN:VEVENT
DTSTART;TZID=Europe/Oslo:20220504T110000
DTEND;TZID=Europe/Oslo:20220504T130000
DTSTAMP:20260420T051815
CREATED:20220309T093007Z
LAST-MODIFIED:20220406T082654Z
UID:10000502-1651662000-1651669200@gammel.seniornett.no
SUMMARY:Datakafe hver 14 dag på Bølgen i Sørreisa sentrum!
DESCRIPTION:Datakafe på Bølgen ( Gamle kokkeskolen) 1100 til 1300. Alle er velkommen\, alle hjelper alle! Du skal ikke sitte alene med «uoverstigelige» problemer som andre kan løse!
URL:https://gammel.seniornett.no/arrangement/datakafe-hver-14-dag/2022-05-04/
END:VEVENT
BEGIN:VEVENT
DTSTART;TZID=Europe/Oslo:20220505T110000
DTEND;TZID=Europe/Oslo:20220505T130000
DTSTAMP:20260420T051815
CREATED:20220309T093007Z
LAST-MODIFIED:20220406T082654Z
UID:10000503-1651748400-1651755600@gammel.seniornett.no
SUMMARY:Datakafe hver 14 dag på Bølgen i Sørreisa sentrum!
DESCRIPTION:Datakafe på Bølgen ( Gamle kokkeskolen) 1100 til 1300. Alle er velkommen\, alle hjelper alle! Du skal ikke sitte alene med «uoverstigelige» problemer som andre kan løse!
URL:https://gammel.seniornett.no/arrangement/datakafe-hver-14-dag/2022-05-05/
END:VEVENT
BEGIN:VEVENT
DTSTART;TZID=Europe/Oslo:20220505T110000
DTEND;TZID=Europe/Oslo:20220505T140000
DTSTAMP:20260420T051815
CREATED:20220426T160829Z
LAST-MODIFIED:20220426T160829Z
UID:10000725-1651748400-1651759200@gammel.seniornett.no
SUMMARY:Datakafe på torsdager \, Tokke Seniornett
DESCRIPTION:Datakafe på Tokke Frivilligsentral \,  kl   11.00 til kl  1.400. Alle er velkommen\, alle hjelper alle! Du skal ikke sitte alene med «uoverstigelige» problemer som andre kan løse!Velkommen .
URL:https://gammel.seniornett.no/arrangement/datakafe-pa-torsdager-tokke-seniornett/2022-05-05/
END:VEVENT
BEGIN:VEVENT
DTSTART;TZID=Europe/Oslo:20220505T120000
DTEND;TZID=Europe/Oslo:20220505T140000
DTSTAMP:20260420T051815
CREATED:20220427T145200Z
LAST-MODIFIED:20220427T145231Z
UID:10000730-1651752000-1651759200@gammel.seniornett.no
SUMMARY:Nettkafe i Røde Kors-huset Bråten
DESCRIPTION:Vi møtes torsdag 5. mai kl. 12. Tema er installering og bruk av apper for smarttelefoner. Aktuelle apper er HelseNorge app\, bruk av navigasjonsapp\, Vipps og Luftambulansens app.
URL:https://gammel.seniornett.no/arrangement/nettkafe-i-rade-kors-huset-braten/
END:VEVENT
BEGIN:VEVENT
DTSTART;TZID=Europe/Oslo:20220506T110000
DTEND;TZID=Europe/Oslo:20220506T130000
DTSTAMP:20260420T051815
CREATED:20220309T093007Z
LAST-MODIFIED:20220406T082654Z
UID:10000504-1651834800-1651842000@gammel.seniornett.no
SUMMARY:Datakafe hver 14 dag på Bølgen i Sørreisa sentrum!
DESCRIPTION:Datakafe på Bølgen ( Gamle kokkeskolen) 1100 til 1300. Alle er velkommen\, alle hjelper alle! Du skal ikke sitte alene med «uoverstigelige» problemer som andre kan løse!
URL:https://gammel.seniornett.no/arrangement/datakafe-hver-14-dag/2022-05-06/
END:VEVENT
BEGIN:VEVENT
DTSTART;TZID=Europe/Oslo:20220507T110000
DTEND;TZID=Europe/Oslo:20220507T130000
DTSTAMP:20260420T051815
CREATED:20220309T093007Z
LAST-MODIFIED:20220406T082654Z
UID:10000505-1651921200-1651928400@gammel.seniornett.no
SUMMARY:Datakafe hver 14 dag på Bølgen i Sørreisa sentrum!
DESCRIPTION:Datakafe på Bølgen ( Gamle kokkeskolen) 1100 til 1300. Alle er velkommen\, alle hjelper alle! Du skal ikke sitte alene med «uoverstigelige» problemer som andre kan løse!
URL:https://gammel.seniornett.no/arrangement/datakafe-hver-14-dag/2022-05-07/
END:VEVENT
BEGIN:VEVENT
DTSTART;TZID=Europe/Oslo:20220508T110000
DTEND;TZID=Europe/Oslo:20220508T130000
DTSTAMP:20260420T051815
CREATED:20220309T093007Z
LAST-MODIFIED:20220406T082654Z
UID:10000506-1652007600-1652014800@gammel.seniornett.no
SUMMARY:Datakafe hver 14 dag på Bølgen i Sørreisa sentrum!
DESCRIPTION:Datakafe på Bølgen ( Gamle kokkeskolen) 1100 til 1300. Alle er velkommen\, alle hjelper alle! Du skal ikke sitte alene med «uoverstigelige» problemer som andre kan løse!
URL:https://gammel.seniornett.no/arrangement/datakafe-hver-14-dag/2022-05-08/
END:VEVENT
BEGIN:VEVENT
DTSTART;TZID=Europe/Oslo:20220509T110000
DTEND;TZID=Europe/Oslo:20220509T130000
DTSTAMP:20260420T051815
CREATED:20220309T093007Z
LAST-MODIFIED:20220406T082654Z
UID:10000507-1652094000-1652101200@gammel.seniornett.no
SUMMARY:Datakafe hver 14 dag på Bølgen i Sørreisa sentrum!
DESCRIPTION:Datakafe på Bølgen ( Gamle kokkeskolen) 1100 til 1300. Alle er velkommen\, alle hjelper alle! Du skal ikke sitte alene med «uoverstigelige» problemer som andre kan løse!
URL:https://gammel.seniornett.no/arrangement/datakafe-hver-14-dag/2022-05-09/
END:VEVENT
BEGIN:VEVENT
DTSTART;TZID=Europe/Oslo:20220510T080000
DTEND;TZID=Europe/Oslo:20220510T170000
DTSTAMP:20260420T051815
CREATED:20220510T085204Z
LAST-MODIFIED:20220510T090838Z
UID:10000734-1652169600-1652202000@gammel.seniornett.no
SUMMARY:mobil test
DESCRIPTION:
URL:https://gammel.seniornett.no/arrangement/mobil-test/
LOCATION:Seniornett Dronningensgate 6\, Dronningensgate 6\, Oslo\, Oslo\, 1052
CATEGORIES:Dronningensgate 6
END:VEVENT
BEGIN:VEVENT
DTSTART;TZID=Europe/Oslo:20220510T110000
DTEND;TZID=Europe/Oslo:20220510T130000
DTSTAMP:20260420T051815
CREATED:20220309T093007Z
LAST-MODIFIED:20220406T082654Z
UID:10000508-1652180400-1652187600@gammel.seniornett.no
SUMMARY:Datakafe hver 14 dag på Bølgen i Sørreisa sentrum!
DESCRIPTION:Datakafe på Bølgen ( Gamle kokkeskolen) 1100 til 1300. Alle er velkommen\, alle hjelper alle! Du skal ikke sitte alene med «uoverstigelige» problemer som andre kan løse!
URL:https://gammel.seniornett.no/arrangement/datakafe-hver-14-dag/2022-05-10/
END:VEVENT
BEGIN:VEVENT
DTSTART;TZID=Europe/Oslo:20220511T110000
DTEND;TZID=Europe/Oslo:20220511T130000
DTSTAMP:20260420T051815
CREATED:20220309T093007Z
LAST-MODIFIED:20220406T082654Z
UID:10000509-1652266800-1652274000@gammel.seniornett.no
SUMMARY:Datakafe hver 14 dag på Bølgen i Sørreisa sentrum!
DESCRIPTION:Datakafe på Bølgen ( Gamle kokkeskolen) 1100 til 1300. Alle er velkommen\, alle hjelper alle! Du skal ikke sitte alene med «uoverstigelige» problemer som andre kan løse!
URL:https://gammel.seniornett.no/arrangement/datakafe-hver-14-dag/2022-05-11/
END:VEVENT
BEGIN:VEVENT
DTSTART;TZID=Europe/Oslo:20220512T000000
DTEND;TZID=Europe/Oslo:20220512T000000
DTSTAMP:20260420T051815
CREATED:20220510T084212Z
LAST-MODIFIED:20220510T092714Z
UID:10000733-1652313600-1652313600@gammel.seniornett.no
SUMMARY:test
DESCRIPTION:test
URL:https://gammel.seniornett.no/arrangement/__trashed-4/
LOCATION:Seniornett Dronningensgate 6\, Dronningensgate 6\, Oslo\, Oslo\, 1052
CATEGORIES:Dronningensgate 6
ORGANIZER;CN="Dronningensgate 6":MAILTO:kurs@seniornett.no
END:VEVENT
BEGIN:VEVENT
DTSTART;TZID=Europe/Oslo:20220512T080000
DTEND;TZID=Europe/Oslo:20220512T170000
DTSTAMP:20260420T051815
CREATED:20220510T091128Z
LAST-MODIFIED:20220510T091128Z
UID:10000735-1652342400-1652374800@gammel.seniornett.no
SUMMARY:Tester igjen
DESCRIPTION:
URL:https://gammel.seniornett.no/arrangement/tester-igjen/
LOCATION:Seniornett Dronningensgate 6\, Dronningensgate 6\, Oslo\, Oslo\, 1052
CATEGORIES:Dronningensgate 6
END:VEVENT
BEGIN:VEVENT
DTSTART;TZID=Europe/Oslo:20220512T100000
DTEND;TZID=Europe/Oslo:20220512T140000
DTSTAMP:20260420T051815
CREATED:20220223T101030Z
LAST-MODIFIED:20220511T082644Z
UID:10000441-1652349600-1652364000@gammel.seniornett.no
SUMMARY:Kurs
DESCRIPTION:Gmail e-post og tekstbehandling
URL:https://gammel.seniornett.no/arrangement/kurs/
LOCATION:Seniornett Dronningensgate 6\, Dronningensgate 6\, Oslo\, Oslo\, 1052
CATEGORIES:Dronningensgate 6
ORGANIZER;CN="Dronningensgate 6":MAILTO:kurs@seniornett.no
END:VEVENT
BEGIN:VEVENT
DTSTART;TZID=Europe/Oslo:20220512T100000
DTEND;TZID=Europe/Oslo:20220512T140000
DTSTAMP:20260420T051815
CREATED:20220510T083449Z
LAST-MODIFIED:20220511T082732Z
UID:10000731-1652349600-1652364000@gammel.seniornett.no
SUMMARY:Kalendertest
DESCRIPTION:tester \n 
URL:https://gammel.seniornett.no/arrangement/test/2022-05-12/
LOCATION:Seniornett Dronningensgate 6\, Dronningensgate 6\, Oslo\, Oslo\, 1052
CATEGORIES:Dronningensgate 6
ORGANIZER;CN="Dronningensgate 6":MAILTO:kurs@seniornett.no
END:VEVENT
BEGIN:VEVENT
DTSTART;TZID=Europe/Oslo:20220512T100000
DTEND;TZID=Europe/Oslo:20220512T150000
DTSTAMP:20260420T051815
CREATED:20220310T091114Z
LAST-MODIFIED:20220511T082310Z
UID:10000720-1652349600-1652367600@gammel.seniornett.no
SUMMARY:Grunnkurs Nettbrett/mobil
DESCRIPTION:Her tar vi for oss grunnleggende bruk av nettbrett/mobil.\n\nGrunnkurset for Nettbrett er for nybegynnere hvor vi går igjennom det du trenger å vite for å komme i gang med ditt nettbrett\, punktene vi går igjennom er\, \n\nStarte og slå av ditt nettbrett/mobil\nBegreper\nBruk av førstesiden (hjemskjermen)\nBruk av berøringsskjerm (hvordan du navigerer)\nBruk av apper\nBruk av tastaturet\nBruk av Internett\nSikkerhet\nDu for også vite hvordan du kobler deg opp mot Internett\nLitt inne på innstillinger\nTips kjøp av Nettbrett/mobil\n\nVi setter av en til to timer på slutten av hvert kurs hvor vi går igjennom dine ønsker og repetisjoner fra kurset\, vi repeterer også i første time på dag to. Det blir tre kvarter undervisning og ett kvarters pause hver time\, vi kan også avtale en lunsj pause pluss to små pauser.
URL:https://gammel.seniornett.no/arrangement/grunnkurs-nettbrett-mobil-2/2022-05-12/
LOCATION:Seniornett Dronningensgate 6\, Dronningensgate 6\, Oslo\, Oslo\, 1052
CATEGORIES:Dronningensgate 6
END:VEVENT
BEGIN:VEVENT
DTSTART;TZID=Europe/Oslo:20220512T110000
DTEND;TZID=Europe/Oslo:20220512T130000
DTSTAMP:20260420T051815
CREATED:20220309T093007Z
LAST-MODIFIED:20220406T082654Z
UID:10000510-1652353200-1652360400@gammel.seniornett.no
SUMMARY:Datakafe hver 14 dag på Bølgen i Sørreisa sentrum!
DESCRIPTION:Datakafe på Bølgen ( Gamle kokkeskolen) 1100 til 1300. Alle er velkommen\, alle hjelper alle! Du skal ikke sitte alene med «uoverstigelige» problemer som andre kan løse!
URL:https://gammel.seniornett.no/arrangement/datakafe-hver-14-dag/2022-05-12/
END:VEVENT
BEGIN:VEVENT
DTSTART;TZID=Europe/Oslo:20220512T110000
DTEND;TZID=Europe/Oslo:20220512T140000
DTSTAMP:20260420T051815
CREATED:20220426T160829Z
LAST-MODIFIED:20220426T160829Z
UID:10000726-1652353200-1652364000@gammel.seniornett.no
SUMMARY:Datakafe på torsdager \, Tokke Seniornett
DESCRIPTION:Datakafe på Tokke Frivilligsentral \,  kl   11.00 til kl  1.400. Alle er velkommen\, alle hjelper alle! Du skal ikke sitte alene med «uoverstigelige» problemer som andre kan løse!Velkommen .
URL:https://gammel.seniornett.no/arrangement/datakafe-pa-torsdager-tokke-seniornett/2022-05-12/
END:VEVENT
BEGIN:VEVENT
DTSTART;TZID=Europe/Oslo:20220513T100000
DTEND;TZID=Europe/Oslo:20220513T140000
DTSTAMP:20260420T051815
CREATED:20220510T083449Z
LAST-MODIFIED:20220511T082732Z
UID:10000732-1652436000-1652450400@gammel.seniornett.no
SUMMARY:Kalendertest
DESCRIPTION:tester \n 
URL:https://gammel.seniornett.no/arrangement/test/2022-05-13/
LOCATION:Seniornett Dronningensgate 6\, Dronningensgate 6\, Oslo\, Oslo\, 1052
CATEGORIES:Dronningensgate 6
ORGANIZER;CN="Dronningensgate 6":MAILTO:kurs@seniornett.no
END:VEVENT
BEGIN:VEVENT
DTSTART;TZID=Europe/Oslo:20220513T110000
DTEND;TZID=Europe/Oslo:20220513T130000
DTSTAMP:20260420T051815
CREATED:20220309T093007Z
LAST-MODIFIED:20220406T082654Z
UID:10000511-1652439600-1652446800@gammel.seniornett.no
SUMMARY:Datakafe hver 14 dag på Bølgen i Sørreisa sentrum!
DESCRIPTION:Datakafe på Bølgen ( Gamle kokkeskolen) 1100 til 1300. Alle er velkommen\, alle hjelper alle! Du skal ikke sitte alene med «uoverstigelige» problemer som andre kan løse!
URL:https://gammel.seniornett.no/arrangement/datakafe-hver-14-dag/2022-05-13/
END:VEVENT
BEGIN:VEVENT
DTSTART;TZID=Europe/Oslo:20220514T110000
DTEND;TZID=Europe/Oslo:20220514T130000
DTSTAMP:20260420T051815
CREATED:20220309T093007Z
LAST-MODIFIED:20220406T082654Z
UID:10000512-1652526000-1652533200@gammel.seniornett.no
SUMMARY:Datakafe hver 14 dag på Bølgen i Sørreisa sentrum!
DESCRIPTION:Datakafe på Bølgen ( Gamle kokkeskolen) 1100 til 1300. Alle er velkommen\, alle hjelper alle! Du skal ikke sitte alene med «uoverstigelige» problemer som andre kan løse!
URL:https://gammel.seniornett.no/arrangement/datakafe-hver-14-dag/2022-05-14/
END:VEVENT
BEGIN:VEVENT
DTSTART;TZID=Europe/Oslo:20220515T110000
DTEND;TZID=Europe/Oslo:20220515T130000
DTSTAMP:20260420T051815
CREATED:20220309T093007Z
LAST-MODIFIED:20220406T082654Z
UID:10000513-1652612400-1652619600@gammel.seniornett.no
SUMMARY:Datakafe hver 14 dag på Bølgen i Sørreisa sentrum!
DESCRIPTION:Datakafe på Bølgen ( Gamle kokkeskolen) 1100 til 1300. Alle er velkommen\, alle hjelper alle! Du skal ikke sitte alene med «uoverstigelige» problemer som andre kan løse!
URL:https://gammel.seniornett.no/arrangement/datakafe-hver-14-dag/2022-05-15/
END:VEVENT
BEGIN:VEVENT
DTSTART;TZID=Europe/Oslo:20220516T110000
DTEND;TZID=Europe/Oslo:20220516T130000
DTSTAMP:20260420T051815
CREATED:20220309T093007Z
LAST-MODIFIED:20220406T082654Z
UID:10000514-1652698800-1652706000@gammel.seniornett.no
SUMMARY:Datakafe hver 14 dag på Bølgen i Sørreisa sentrum!
DESCRIPTION:Datakafe på Bølgen ( Gamle kokkeskolen) 1100 til 1300. Alle er velkommen\, alle hjelper alle! Du skal ikke sitte alene med «uoverstigelige» problemer som andre kan løse!
URL:https://gammel.seniornett.no/arrangement/datakafe-hver-14-dag/2022-05-16/
END:VEVENT
BEGIN:VEVENT
DTSTART;TZID=Europe/Oslo:20220517T110000
DTEND;TZID=Europe/Oslo:20220517T130000
DTSTAMP:20260420T051815
CREATED:20220309T093007Z
LAST-MODIFIED:20220406T082654Z
UID:10000515-1652785200-1652792400@gammel.seniornett.no
SUMMARY:Datakafe hver 14 dag på Bølgen i Sørreisa sentrum!
DESCRIPTION:Datakafe på Bølgen ( Gamle kokkeskolen) 1100 til 1300. Alle er velkommen\, alle hjelper alle! Du skal ikke sitte alene med «uoverstigelige» problemer som andre kan løse!
URL:https://gammel.seniornett.no/arrangement/datakafe-hver-14-dag/2022-05-17/
END:VEVENT
BEGIN:VEVENT
DTSTART;TZID=Europe/Oslo:20220518T110000
DTEND;TZID=Europe/Oslo:20220518T130000
DTSTAMP:20260420T051815
CREATED:20220309T093007Z
LAST-MODIFIED:20220406T082654Z
UID:10000516-1652871600-1652878800@gammel.seniornett.no
SUMMARY:Datakafe hver 14 dag på Bølgen i Sørreisa sentrum!
DESCRIPTION:Datakafe på Bølgen ( Gamle kokkeskolen) 1100 til 1300. Alle er velkommen\, alle hjelper alle! Du skal ikke sitte alene med «uoverstigelige» problemer som andre kan løse!
URL:https://gammel.seniornett.no/arrangement/datakafe-hver-14-dag/2022-05-18/
END:VEVENT
BEGIN:VEVENT
DTSTART;TZID=Europe/Oslo:20220519T100000
DTEND;TZID=Europe/Oslo:20220519T143000
DTSTAMP:20260420T051815
CREATED:20220518T083436Z
LAST-MODIFIED:20220518T084019Z
UID:10000736-1652954400-1652970600@gammel.seniornett.no
SUMMARY:tester 18 mai
DESCRIPTION:tester igjen \n  \n  \n 
URL:https://gammel.seniornett.no/arrangement/tester-18-mai/
LOCATION:Seniornett Dronningensgate 6\, Dronningensgate 6\, Oslo\, Oslo\, 1052
CATEGORIES:Dronningensgate 6,Kurs
ORGANIZER;CN="Dronningensgate 6":MAILTO:kurs@seniornett.no
END:VEVENT
END:VCALENDAR