BEGIN:VCALENDAR
VERSION:2.0
PRODID:-//Seniornett Norge - ECPv6.15.19//NONSGML v1.0//EN
CALSCALE:GREGORIAN
METHOD:PUBLISH
X-WR-CALNAME:Seniornett Norge
X-ORIGINAL-URL:https://gammel.seniornett.no
X-WR-CALDESC:Arrangement for Seniornett Norge
REFRESH-INTERVAL;VALUE=DURATION:PT1H
X-Robots-Tag:noindex
X-PUBLISHED-TTL:PT1H
BEGIN:VTIMEZONE
TZID:Europe/Oslo
BEGIN:DAYLIGHT
TZOFFSETFROM:+0100
TZOFFSETTO:+0200
TZNAME:CEST
DTSTART:20210328T010000
END:DAYLIGHT
BEGIN:STANDARD
TZOFFSETFROM:+0200
TZOFFSETTO:+0100
TZNAME:CET
DTSTART:20211031T010000
END:STANDARD
BEGIN:DAYLIGHT
TZOFFSETFROM:+0100
TZOFFSETTO:+0200
TZNAME:CEST
DTSTART:20220327T010000
END:DAYLIGHT
BEGIN:STANDARD
TZOFFSETFROM:+0200
TZOFFSETTO:+0100
TZNAME:CET
DTSTART:20221030T010000
END:STANDARD
BEGIN:DAYLIGHT
TZOFFSETFROM:+0100
TZOFFSETTO:+0200
TZNAME:CEST
DTSTART:20230326T010000
END:DAYLIGHT
BEGIN:STANDARD
TZOFFSETFROM:+0200
TZOFFSETTO:+0100
TZNAME:CET
DTSTART:20231029T010000
END:STANDARD
END:VTIMEZONE
BEGIN:VEVENT
DTSTART;TZID=Europe/Oslo:20221201T110000
DTEND;TZID=Europe/Oslo:20221201T130000
DTSTAMP:20260419T151706
CREATED:20220309T093007Z
LAST-MODIFIED:20220406T082654Z
UID:10000713-1669892400-1669899600@gammel.seniornett.no
SUMMARY:Datakafe hver 14 dag på Bølgen i Sørreisa sentrum!
DESCRIPTION:Datakafe på Bølgen ( Gamle kokkeskolen) 1100 til 1300. Alle er velkommen\, alle hjelper alle! Du skal ikke sitte alene med «uoverstigelige» problemer som andre kan løse!
URL:https://gammel.seniornett.no/arrangement/datakafe-hver-14-dag/2022-12-01/
END:VEVENT
BEGIN:VEVENT
DTSTART;TZID=Europe/Oslo:20221201T150000
DTEND;TZID=Europe/Oslo:20221201T180000
DTSTAMP:20260419T151706
CREATED:20221030T094229Z
LAST-MODIFIED:20221030T094254Z
UID:10000771-1669906800-1669917600@gammel.seniornett.no
SUMMARY:Datakurs 1 til 1 opplæring
DESCRIPTION:1 til 1 opplæring. Ta med din eigen telefon\, nettbrett eller PC og få hjelp til å løysa dine utfordringar. Du teikar deg for ein time med ein Yrkesskuleelv som hjelper deg i ditt eige tempo. \nOpplæringa er gratis\, og du kan& få gratis drosje til og frå\, om du treng det. Du kan teika deg for så mange timar du vil\, framleis heilt gratis. \nKursa finn stad på Biblioteket i Eikelandsosen og på Os\, kvar tordsdag frå kl. 15.00 \nRing 907 98 332 for å bestille time
URL:https://gammel.seniornett.no/arrangement/datakurs-1-til-1-opplaering/2022-12-01/
CATEGORIES:Kurs
END:VEVENT
BEGIN:VEVENT
DTSTART;TZID=Europe/Oslo:20221202T110000
DTEND;TZID=Europe/Oslo:20221202T130000
DTSTAMP:20260419T151706
CREATED:20220309T093007Z
LAST-MODIFIED:20220406T082654Z
UID:10000714-1669978800-1669986000@gammel.seniornett.no
SUMMARY:Datakafe hver 14 dag på Bølgen i Sørreisa sentrum!
DESCRIPTION:Datakafe på Bølgen ( Gamle kokkeskolen) 1100 til 1300. Alle er velkommen\, alle hjelper alle! Du skal ikke sitte alene med «uoverstigelige» problemer som andre kan løse!
URL:https://gammel.seniornett.no/arrangement/datakafe-hver-14-dag/2022-12-02/
END:VEVENT
BEGIN:VEVENT
DTSTART;TZID=Europe/Oslo:20221203T110000
DTEND;TZID=Europe/Oslo:20221203T130000
DTSTAMP:20260419T151706
CREATED:20220309T093007Z
LAST-MODIFIED:20220406T082654Z
UID:10000715-1670065200-1670072400@gammel.seniornett.no
SUMMARY:Datakafe hver 14 dag på Bølgen i Sørreisa sentrum!
DESCRIPTION:Datakafe på Bølgen ( Gamle kokkeskolen) 1100 til 1300. Alle er velkommen\, alle hjelper alle! Du skal ikke sitte alene med «uoverstigelige» problemer som andre kan løse!
URL:https://gammel.seniornett.no/arrangement/datakafe-hver-14-dag/2022-12-03/
END:VEVENT
BEGIN:VEVENT
DTSTART;TZID=Europe/Oslo:20221204T110000
DTEND;TZID=Europe/Oslo:20221204T130000
DTSTAMP:20260419T151706
CREATED:20220309T093007Z
LAST-MODIFIED:20220406T082654Z
UID:10000716-1670151600-1670158800@gammel.seniornett.no
SUMMARY:Datakafe hver 14 dag på Bølgen i Sørreisa sentrum!
DESCRIPTION:Datakafe på Bølgen ( Gamle kokkeskolen) 1100 til 1300. Alle er velkommen\, alle hjelper alle! Du skal ikke sitte alene med «uoverstigelige» problemer som andre kan løse!
URL:https://gammel.seniornett.no/arrangement/datakafe-hver-14-dag/2022-12-04/
END:VEVENT
BEGIN:VEVENT
DTSTART;TZID=Europe/Oslo:20221204T150000
DTEND;TZID=Europe/Oslo:20221204T180000
DTSTAMP:20260419T151706
CREATED:20221030T094229Z
LAST-MODIFIED:20221030T094254Z
UID:10000772-1670166000-1670176800@gammel.seniornett.no
SUMMARY:Datakurs 1 til 1 opplæring
DESCRIPTION:1 til 1 opplæring. Ta med din eigen telefon\, nettbrett eller PC og få hjelp til å løysa dine utfordringar. Du teikar deg for ein time med ein Yrkesskuleelv som hjelper deg i ditt eige tempo. \nOpplæringa er gratis\, og du kan& få gratis drosje til og frå\, om du treng det. Du kan teika deg for så mange timar du vil\, framleis heilt gratis. \nKursa finn stad på Biblioteket i Eikelandsosen og på Os\, kvar tordsdag frå kl. 15.00 \nRing 907 98 332 for å bestille time
URL:https://gammel.seniornett.no/arrangement/datakurs-1-til-1-opplaering/2022-12-04/
CATEGORIES:Kurs
END:VEVENT
BEGIN:VEVENT
DTSTART;TZID=Europe/Oslo:20221205T110000
DTEND;TZID=Europe/Oslo:20221205T130000
DTSTAMP:20260419T151706
CREATED:20220309T093007Z
LAST-MODIFIED:20220406T082654Z
UID:10000717-1670238000-1670245200@gammel.seniornett.no
SUMMARY:Datakafe hver 14 dag på Bølgen i Sørreisa sentrum!
DESCRIPTION:Datakafe på Bølgen ( Gamle kokkeskolen) 1100 til 1300. Alle er velkommen\, alle hjelper alle! Du skal ikke sitte alene med «uoverstigelige» problemer som andre kan løse!
URL:https://gammel.seniornett.no/arrangement/datakafe-hver-14-dag/2022-12-05/
END:VEVENT
BEGIN:VEVENT
DTSTART;TZID=Europe/Oslo:20221206T110000
DTEND;TZID=Europe/Oslo:20221206T130000
DTSTAMP:20260419T151706
CREATED:20220309T093007Z
LAST-MODIFIED:20220406T082654Z
UID:10000718-1670324400-1670331600@gammel.seniornett.no
SUMMARY:Datakafe hver 14 dag på Bølgen i Sørreisa sentrum!
DESCRIPTION:Datakafe på Bølgen ( Gamle kokkeskolen) 1100 til 1300. Alle er velkommen\, alle hjelper alle! Du skal ikke sitte alene med «uoverstigelige» problemer som andre kan løse!
URL:https://gammel.seniornett.no/arrangement/datakafe-hver-14-dag/2022-12-06/
END:VEVENT
BEGIN:VEVENT
DTSTART;TZID=Europe/Oslo:20221207T110000
DTEND;TZID=Europe/Oslo:20221207T130000
DTSTAMP:20260419T151706
CREATED:20220309T093007Z
LAST-MODIFIED:20220406T082654Z
UID:10000719-1670410800-1670418000@gammel.seniornett.no
SUMMARY:Datakafe hver 14 dag på Bølgen i Sørreisa sentrum!
DESCRIPTION:Datakafe på Bølgen ( Gamle kokkeskolen) 1100 til 1300. Alle er velkommen\, alle hjelper alle! Du skal ikke sitte alene med «uoverstigelige» problemer som andre kan løse!
URL:https://gammel.seniornett.no/arrangement/datakafe-hver-14-dag/2022-12-07/
END:VEVENT
BEGIN:VEVENT
DTSTART;TZID=Europe/Oslo:20221208T150000
DTEND;TZID=Europe/Oslo:20221208T180000
DTSTAMP:20260419T151706
CREATED:20221030T094229Z
LAST-MODIFIED:20221030T094254Z
UID:10000773-1670511600-1670522400@gammel.seniornett.no
SUMMARY:Datakurs 1 til 1 opplæring
DESCRIPTION:1 til 1 opplæring. Ta med din eigen telefon\, nettbrett eller PC og få hjelp til å løysa dine utfordringar. Du teikar deg for ein time med ein Yrkesskuleelv som hjelper deg i ditt eige tempo. \nOpplæringa er gratis\, og du kan& få gratis drosje til og frå\, om du treng det. Du kan teika deg for så mange timar du vil\, framleis heilt gratis. \nKursa finn stad på Biblioteket i Eikelandsosen og på Os\, kvar tordsdag frå kl. 15.00 \nRing 907 98 332 for å bestille time
URL:https://gammel.seniornett.no/arrangement/datakurs-1-til-1-opplaering/2022-12-08/
CATEGORIES:Kurs
END:VEVENT
END:VCALENDAR