BEGIN:VCALENDAR
VERSION:2.0
PRODID:-//Seniornett Norge - ECPv6.15.19//NONSGML v1.0//EN
CALSCALE:GREGORIAN
METHOD:PUBLISH
X-WR-CALNAME:Seniornett Norge
X-ORIGINAL-URL:https://gammel.seniornett.no
X-WR-CALDESC:Arrangement for Seniornett Norge
REFRESH-INTERVAL;VALUE=DURATION:PT1H
X-Robots-Tag:noindex
X-PUBLISHED-TTL:PT1H
BEGIN:VTIMEZONE
TZID:Europe/Oslo
BEGIN:DAYLIGHT
TZOFFSETFROM:+0100
TZOFFSETTO:+0200
TZNAME:CEST
DTSTART:20210328T010000
END:DAYLIGHT
BEGIN:STANDARD
TZOFFSETFROM:+0200
TZOFFSETTO:+0100
TZNAME:CET
DTSTART:20211031T010000
END:STANDARD
BEGIN:DAYLIGHT
TZOFFSETFROM:+0100
TZOFFSETTO:+0200
TZNAME:CEST
DTSTART:20220327T010000
END:DAYLIGHT
BEGIN:STANDARD
TZOFFSETFROM:+0200
TZOFFSETTO:+0100
TZNAME:CET
DTSTART:20221030T010000
END:STANDARD
BEGIN:DAYLIGHT
TZOFFSETFROM:+0100
TZOFFSETTO:+0200
TZNAME:CEST
DTSTART:20230326T010000
END:DAYLIGHT
BEGIN:STANDARD
TZOFFSETFROM:+0200
TZOFFSETTO:+0100
TZNAME:CET
DTSTART:20231029T010000
END:STANDARD
END:VTIMEZONE
BEGIN:VEVENT
DTSTART;TZID=Europe/Oslo:20221117T110000
DTEND;TZID=Europe/Oslo:20221117T140000
DTSTAMP:20260419T162202
CREATED:20221109T195312Z
LAST-MODIFIED:20221109T195312Z
UID:10000786-1668682800-1668693600@gammel.seniornett.no
SUMMARY:Datastue i Kragerø\, runde 2
DESCRIPTION:Datastuer er et samarbeide mellom Seniornett og Pensjonistforbundet. Prosjektet har fått seks millioner kroner til gjennomføring fra Helsedirektoratet. Gjennom samarbeidet ønsker vi å styrke hverandres organisasjoner\, og gi seniorer mer kunnskap om smarttelefoner\, nettbrett og PC. \nDet er etablert omlag 50 datastuer for digital opplæring av eldre rundt om i landet. Målet er å motvirke ensomhet ved å engasjere seniorer selv som dataveiledere og lære seniorer å bruke digitale verktøy for å kunne kommunisere med familie og venner. Datastuene etableres i tilknytning til allerede eksisterende møteplasser for eldre som senior/aktivitetssentre for på den måten å styrke rekruttering til disse møteplassene. \n\nEt passende antall deltagere på et kurs er 8-10 personer.\nKurset holdes over fire dager\, med tre timer hver dag.\nHver deltager betaler 200 koner\, til lokalforeningen/datastuen\, for å delta\nKontakt Dag Westhrin\, dag@westhrin.no eventuelt telefon 99407661\nStartdato 17.11\, videre 22.11\, 24.11 og 29.11
URL:https://gammel.seniornett.no/arrangement/datastue-i-kragero-runde-2/
END:VEVENT
END:VCALENDAR