BEGIN:VCALENDAR
VERSION:2.0
PRODID:-//Seniornett Norge - ECPv6.15.19//NONSGML v1.0//EN
CALSCALE:GREGORIAN
METHOD:PUBLISH
X-WR-CALNAME:Seniornett Norge
X-ORIGINAL-URL:https://gammel.seniornett.no
X-WR-CALDESC:Arrangement for Seniornett Norge
REFRESH-INTERVAL;VALUE=DURATION:PT1H
X-Robots-Tag:noindex
X-PUBLISHED-TTL:PT1H
BEGIN:VTIMEZONE
TZID:Europe/Oslo
BEGIN:DAYLIGHT
TZOFFSETFROM:+0100
TZOFFSETTO:+0200
TZNAME:CEST
DTSTART:20210328T010000
END:DAYLIGHT
BEGIN:STANDARD
TZOFFSETFROM:+0200
TZOFFSETTO:+0100
TZNAME:CET
DTSTART:20211031T010000
END:STANDARD
BEGIN:DAYLIGHT
TZOFFSETFROM:+0100
TZOFFSETTO:+0200
TZNAME:CEST
DTSTART:20220327T010000
END:DAYLIGHT
BEGIN:STANDARD
TZOFFSETFROM:+0200
TZOFFSETTO:+0100
TZNAME:CET
DTSTART:20221030T010000
END:STANDARD
BEGIN:DAYLIGHT
TZOFFSETFROM:+0100
TZOFFSETTO:+0200
TZNAME:CEST
DTSTART:20230326T010000
END:DAYLIGHT
BEGIN:STANDARD
TZOFFSETFROM:+0200
TZOFFSETTO:+0100
TZNAME:CET
DTSTART:20231029T010000
END:STANDARD
END:VTIMEZONE
BEGIN:VEVENT
DTSTART;TZID=Europe/Oslo:20221014T080000
DTEND;TZID=Europe/Oslo:20221014T170000
DTSTAMP:20260419T195021
CREATED:20221016T110549Z
LAST-MODIFIED:20221016T111708Z
UID:10000775-1665734400-1665766800@gammel.seniornett.no
SUMMARY:Fotokurs i regi av Seniornett Kragerø
DESCRIPTION:Seniornett Kragerø arrangerer kurs\, onsdag 26.10.2022. Det skjer på Røde Kors-huset. Du trenger ikke så mye forkunnskaper\, men du må ha lastet ned Snapseed på telefonen din. Har du den ikke? Vi hjelper deg når du kommer på kurset. Med Snapseed kan du gjøre enkle redigeringsjobber. Vi starter opp kl. 11 og holder på noen timer. \nVi er så heldig å få hjelp fra fotoklubben med Marit Hestangen og Svein Ivar Ask. Svein Ivar og Marit er flinke fotografer\, søk dem opp på instagram\, om du har konto. Ask; https://www.instagram.com/askenphoto/ \nHar du Iphone\, finner du den i App store\, har du en Android-telefon\, (for eksempel Samsung)\, finner du den i Play butikk. Søk etter Snapseed og installer.
URL:https://gammel.seniornett.no/arrangement/fotokurs-i-regi-av-seniornett-kragero/
END:VEVENT
END:VCALENDAR